BEGIN:VCALENDAR
VERSION:2.0
PRODID:-//hacksw/handcal//NONSGML v1.0//EN
BEGIN:VEVENT
SUMMARY:Veteran-Eric a l'A.S.M.B
UID:1cbc4cc1-bde7-4ab7-984c-d25c88d514fd
DTSTART:20160415T220000Z
DTEND:20260416T220000Z
LOCATION:Localisation   
CATEGORIES:Sportif
STATUS:
URL;VALUE=URI:https://boule-luxovienne.sportsregions.fr/evenements/2016/04/16/veteran-eric-a-lasmb-2433721
END:VEVENT
END:VCALENDAR
