BEGIN:VCALENDAR
VERSION:2.0
PRODID:-//hacksw/handcal//NONSGML v1.0//EN
BEGIN:VEVENT
SUMMARY:16 quadrettes a Gray
UID:604277c6-e380-4b75-82bd-6ec6b7c8b1b3
DTSTART:20260410T220000Z
DTEND:20260411T220000Z
LOCATION:Localisation   
CATEGORIES:Sportif
STATUS:
URL;VALUE=URI:https://boule-luxovienne.sportsregions.fr/evenements/2026/04/11/16-quadrettes-a-gray-2429399
END:VEVENT
END:VCALENDAR
